BEGIN:VCALENDAR
VERSION:2.0
PRODID:-//Town of Dover, Racine County, Wisconsin - ECPv6.15.17.1//NONSGML v1.0//EN
CALSCALE:GREGORIAN
METHOD:PUBLISH
X-ORIGINAL-URL:https://townofdoverwi.com
X-WR-CALDESC:Events for Town of Dover, Racine County, Wisconsin
REFRESH-INTERVAL;VALUE=DURATION:PT1H
X-Robots-Tag:noindex
X-PUBLISHED-TTL:PT1H
BEGIN:VTIMEZONE
TZID:America/Chicago
BEGIN:DAYLIGHT
TZOFFSETFROM:-0600
TZOFFSETTO:-0500
TZNAME:CDT
DTSTART:20240310T080000
END:DAYLIGHT
BEGIN:STANDARD
TZOFFSETFROM:-0500
TZOFFSETTO:-0600
TZNAME:CST
DTSTART:20241103T070000
END:STANDARD
BEGIN:DAYLIGHT
TZOFFSETFROM:-0600
TZOFFSETTO:-0500
TZNAME:CDT
DTSTART:20250309T080000
END:DAYLIGHT
BEGIN:STANDARD
TZOFFSETFROM:-0500
TZOFFSETTO:-0600
TZNAME:CST
DTSTART:20251102T070000
END:STANDARD
BEGIN:DAYLIGHT
TZOFFSETFROM:-0600
TZOFFSETTO:-0500
TZNAME:CDT
DTSTART:20260308T080000
END:DAYLIGHT
BEGIN:STANDARD
TZOFFSETFROM:-0500
TZOFFSETTO:-0600
TZNAME:CST
DTSTART:20261101T070000
END:STANDARD
END:VTIMEZONE
BEGIN:VEVENT
DTSTART;TZID=America/Chicago:20251204T173000
DTEND;TZID=America/Chicago:20251204T180000
DTSTAMP:20260420T002133
CREATED:20250116T214231Z
LAST-MODIFIED:20250116T214231Z
UID:17404-1764869400-1764871200@townofdoverwi.com
SUMMARY:Municipal Court
DESCRIPTION:
URL:https://townofdoverwi.com/event/municipal-court-42/2025-12-04/
CATEGORIES:Municipal Court
END:VEVENT
BEGIN:VEVENT
DTSTART;TZID=America/Chicago:20251208T180000
DTEND;TZID=America/Chicago:20251208T183000
DTSTAMP:20260420T002133
CREATED:20250116T212242Z
LAST-MODIFIED:20250116T212242Z
UID:17365-1765216800-1765218600@townofdoverwi.com
SUMMARY:Eagle Lake Sewer Utility District Commission Meetings
DESCRIPTION:The Sewer Meetings are held monthly on the second Monday of every month starting promptly at 6pm. \nPlease feel free to attend.  The agenda can located under the Government tab\, then Agenda and Minutes.
URL:https://townofdoverwi.com/event/eagle-lake-sewer-utility-district-commission-meetings/2025-12-08/
CATEGORIES:Eagle Lake Sewer Utility District
END:VEVENT
BEGIN:VEVENT
DTSTART;TZID=America/Chicago:20251208T183000
DTEND;TZID=America/Chicago:20251208T193000
DTSTAMP:20260420T002133
CREATED:20250116T213111Z
LAST-MODIFIED:20250116T213111Z
UID:17383-1765218600-1765222200@townofdoverwi.com
SUMMARY:Dover Town Board Meetings
DESCRIPTION:The Dover Town Board meetings are held the second Monday of each month starting at 6:30pm. \nThe agenda’s are published monthly and can be found at www.townofdoverwi.com under the Government tab\, then Agendas and Minutes. \nThere is always a “Public Comments” section that any subject can be briefly addressed. \n 
URL:https://townofdoverwi.com/event/dover-town-board-meetings/2025-12-08/
CATEGORIES:Town Board
END:VEVENT
BEGIN:VEVENT
DTSTART;TZID=America/Chicago:20251210T190000
DTEND;TZID=America/Chicago:20251210T200000
DTSTAMP:20260420T002133
CREATED:20250116T213939Z
LAST-MODIFIED:20250117T014827Z
UID:17397-1765393200-1765396800@townofdoverwi.com
SUMMARY:Joint Town Board & Plan Commission Meetings
DESCRIPTION:The Joint Town Board & Plan Commission Meetings are held the second Wednesday of each month at 7pm IF someone has requested to have their project reviewed by the Plan Commission. \n  \nAgendas for minutes can be found on this website under the Government tab then Agendas & Minutes. \nBrief “Public Comments/Concerns” are welcome at each meeting.
URL:https://townofdoverwi.com/event/joint-town-board-plan-commission-meetings/2025-12-10/
CATEGORIES:Plan Commission
END:VEVENT
END:VCALENDAR