BEGIN:VCALENDAR
VERSION:2.0
PRODID:-//Town of Dover, Racine County, Wisconsin - ECPv6.15.17.1//NONSGML v1.0//EN
CALSCALE:GREGORIAN
METHOD:PUBLISH
X-WR-CALNAME:Town of Dover, Racine County, Wisconsin
X-ORIGINAL-URL:https://townofdoverwi.com
X-WR-CALDESC:Events for Town of Dover, Racine County, Wisconsin
REFRESH-INTERVAL;VALUE=DURATION:PT1H
X-Robots-Tag:noindex
X-PUBLISHED-TTL:PT1H
BEGIN:VTIMEZONE
TZID:America/Chicago
BEGIN:DAYLIGHT
TZOFFSETFROM:-0600
TZOFFSETTO:-0500
TZNAME:CDT
DTSTART:20240310T080000
END:DAYLIGHT
BEGIN:STANDARD
TZOFFSETFROM:-0500
TZOFFSETTO:-0600
TZNAME:CST
DTSTART:20241103T070000
END:STANDARD
BEGIN:DAYLIGHT
TZOFFSETFROM:-0600
TZOFFSETTO:-0500
TZNAME:CDT
DTSTART:20250309T080000
END:DAYLIGHT
BEGIN:STANDARD
TZOFFSETFROM:-0500
TZOFFSETTO:-0600
TZNAME:CST
DTSTART:20251102T070000
END:STANDARD
BEGIN:DAYLIGHT
TZOFFSETFROM:-0600
TZOFFSETTO:-0500
TZNAME:CDT
DTSTART:20260308T080000
END:DAYLIGHT
BEGIN:STANDARD
TZOFFSETFROM:-0500
TZOFFSETTO:-0600
TZNAME:CST
DTSTART:20261101T070000
END:STANDARD
END:VTIMEZONE
BEGIN:VEVENT
DTSTART;TZID=America/Chicago:20250807T173000
DTEND;TZID=America/Chicago:20250807T180000
DTSTAMP:20260422T055153
CREATED:20250116T214231Z
LAST-MODIFIED:20250116T214231Z
UID:17400-1754587800-1754589600@townofdoverwi.com
SUMMARY:Municipal Court
DESCRIPTION:
URL:https://townofdoverwi.com/event/municipal-court-42/2025-08-07/
CATEGORIES:Municipal Court
END:VEVENT
BEGIN:VEVENT
DTSTART;TZID=America/Chicago:20250811T180000
DTEND;TZID=America/Chicago:20250811T183000
DTSTAMP:20260422T055153
CREATED:20250116T212242Z
LAST-MODIFIED:20250116T212242Z
UID:17360-1754935200-1754937000@townofdoverwi.com
SUMMARY:Eagle Lake Sewer Utility District Commission Meetings
DESCRIPTION:The Sewer Meetings are held monthly on the second Monday of every month starting promptly at 6pm. \nPlease feel free to attend.  The agenda can located under the Government tab\, then Agenda and Minutes.
URL:https://townofdoverwi.com/event/eagle-lake-sewer-utility-district-commission-meetings/2025-08-11/
CATEGORIES:Eagle Lake Sewer Utility District
END:VEVENT
BEGIN:VEVENT
DTSTART;TZID=America/Chicago:20250811T183000
DTEND;TZID=America/Chicago:20250811T193000
DTSTAMP:20260422T055153
CREATED:20250116T213111Z
LAST-MODIFIED:20250116T213111Z
UID:17378-1754937000-1754940600@townofdoverwi.com
SUMMARY:Dover Town Board Meetings
DESCRIPTION:The Dover Town Board meetings are held the second Monday of each month starting at 6:30pm. \nThe agenda’s are published monthly and can be found at www.townofdoverwi.com under the Government tab\, then Agendas and Minutes. \nThere is always a “Public Comments” section that any subject can be briefly addressed. \n 
URL:https://townofdoverwi.com/event/dover-town-board-meetings/2025-08-11/
CATEGORIES:Town Board
END:VEVENT
BEGIN:VEVENT
DTSTART;TZID=America/Chicago:20250813T190000
DTEND;TZID=America/Chicago:20250813T200000
DTSTAMP:20260422T055153
CREATED:20250116T213939Z
LAST-MODIFIED:20250117T014821Z
UID:17392-1755111600-1755115200@townofdoverwi.com
SUMMARY:Joint Town Board & Plan Commission Meetings
DESCRIPTION:The Joint Town Board & Plan Commission Meetings are held the second Wednesday of each month at 7pm IF someone has requested to have their project reviewed by the Plan Commission. \n  \nAgendas for minutes can be found on this website under the Government tab then Agendas & Minutes. \nBrief “Public Comments/Concerns” are welcome at each meeting.
URL:https://townofdoverwi.com/event/joint-town-board-plan-commission-meetings/2025-08-13/
CATEGORIES:Plan Commission
END:VEVENT
BEGIN:VEVENT
DTSTART;TZID=America/Chicago:20250816T080000
DTEND;TZID=America/Chicago:20250816T120000
DTSTAMP:20260422T055153
CREATED:20250403T165411Z
LAST-MODIFIED:20250403T165411Z
UID:17572-1755331200-1755345600@townofdoverwi.com
SUMMARY:CLEAN Sweep-  Misc. Hazardous Disposal Provided by a Multi Municipality Grant
DESCRIPTION:What is a Clean Sweep?\nA Clean Sweep is an opportunity for residents of qualifying communities to properly dispose or recycle unwanted hazardous chemicals\, and electronic goods. This program is free to DOVER residents (proper identification is required). \nTHIS EVENT WILL BE HELD AT:   2200 S Pine Street Burlington WI on Saturday\, August 16\, 2025 from 8a-12noon.\nAcceptable Clean Sweep Items\n\n\n\n\n\n\n\nPlease separate chemicals\, appliances and electronics items before drop off. \nITEMS MUST BE PLACED IN VEHICLE TRUNK OR TRUCK BED\n\n\n\n\n\n\n\n\n\n\n\n\n\nHazardous Waste Items\n\n\n\n\n\nAcetone\nAerosol Cans\, full\nAntifreeze*\n\n\nBatteries (non-alkaline)\nBattery acid\nBrake Fluid\n\n\nCar batteries\nCar Wax\, solvent based\nContact Cement\n\n\nDriveway Sealer\nDry Cleaning Solvent\nFertilizer\n\n\nFiberglass Epoxy\nFloor Care Products\nFluorescent bulbs\n\n\nFurniture Polish\nGasoline and other Fuels\nGlue\, solvent based\n\n\nHair Remover\nInsect Spray/Killer\nLight Ballasts\n\n\nLighter Fluid\n\nMetal Polish\n\n\nMothballs\nNail Polish Remover\nOil Filters\n\n\nOils-based Paints\nOils* (Auto & Other)\nOven Cleaner\n\n\nPaint Thinner\nPaint Stripper\nPesticides\n\n\nPool Chemicals\nRat Poison\nRechargeable Batteries\n\n\nShellac & Stain\nShoe Polish\nSpot Remover\n\n\nSolvent-based Cleaners\nStump Remover\nTransmission Fluid\n\n\nVarnish\nWeed Killer\nWood Filler\n\n\nWood Preservative\nElectronics\nTelevisions/Monitors ($35 fee)\n\n\n\n\n\n\n\n\n\n\n\n\n* Containers cannot be returned \n\n\n\n\n\n\n\n\n\nAppliances\n\n\n\n\n\nBlenders\nCan Openers\nCoffee Maker\n\n\nDishwashers\nDryers\nFurnaces\n\n\nMicrowaves\nMixers\nOvens\n\n\nPizza Ovens\nRefrigerators\nToasters\n\n\nWashers\nOther appliances over 50% metal\n\n\n\n\n\n\n\n\n\n\n\n\n\n\nItems Not Accepted\n\n\n\n\n\nAmmunition\nAlkaline Batteries\nLatex Paint\n\n\nExplosives\nMedical Waste\nPropane\n\n\nRadioactive Material\nSyringes/Sharps\nContainers of liquid over 5 gallons\n\n\nMedication\nFood/Clothing/Household items\nCommercial or business waste
URL:https://townofdoverwi.com/event/clean-sweep-misc-hazardous-disposal-provided-by-a-multi-municipality-grant/
CATEGORIES:Clean Sweep
END:VEVENT
END:VCALENDAR