BEGIN:VCALENDAR
VERSION:2.0
PRODID:-//Town of Dover, Racine County, Wisconsin - ECPv6.15.17.1//NONSGML v1.0//EN
CALSCALE:GREGORIAN
METHOD:PUBLISH
X-WR-CALNAME:Town of Dover, Racine County, Wisconsin
X-ORIGINAL-URL:https://townofdoverwi.com
X-WR-CALDESC:Events for Town of Dover, Racine County, Wisconsin
REFRESH-INTERVAL;VALUE=DURATION:PT1H
X-Robots-Tag:noindex
X-PUBLISHED-TTL:PT1H
BEGIN:VTIMEZONE
TZID:America/Chicago
BEGIN:DAYLIGHT
TZOFFSETFROM:-0600
TZOFFSETTO:-0500
TZNAME:CDT
DTSTART:20220313T080000
END:DAYLIGHT
BEGIN:STANDARD
TZOFFSETFROM:-0500
TZOFFSETTO:-0600
TZNAME:CST
DTSTART:20221106T070000
END:STANDARD
BEGIN:DAYLIGHT
TZOFFSETFROM:-0600
TZOFFSETTO:-0500
TZNAME:CDT
DTSTART:20230312T080000
END:DAYLIGHT
BEGIN:STANDARD
TZOFFSETFROM:-0500
TZOFFSETTO:-0600
TZNAME:CST
DTSTART:20231105T070000
END:STANDARD
BEGIN:DAYLIGHT
TZOFFSETFROM:-0600
TZOFFSETTO:-0500
TZNAME:CDT
DTSTART:20240310T080000
END:DAYLIGHT
BEGIN:STANDARD
TZOFFSETFROM:-0500
TZOFFSETTO:-0600
TZNAME:CST
DTSTART:20241103T070000
END:STANDARD
END:VTIMEZONE
BEGIN:VEVENT
DTSTART;TZID=America/Chicago:20230703T080000
DTEND;TZID=America/Chicago:20230704T170000
DTSTAMP:20260422T163449
CREATED:20230621T171146Z
LAST-MODIFIED:20230621T171146Z
UID:16457-1688371200-1688490000@townofdoverwi.com
SUMMARY:Town Hall Office Closed July 3 & July 4\, 2023
DESCRIPTION:TOWN HALL OFFICE WILL BE CLOSED for Independence Day \nMonday\, July 3\, 2023 & \nTuesday\, July 4\, 2023 \n  \nThe office will reopen on Wednesday July 5 at 8am.   \n  \nThanks!   Kim and Camille
URL:https://townofdoverwi.com/event/town-hall-office-closed-july-3-july-4-2023/
CATEGORIES:OFFICE CLOSED
END:VEVENT
END:VCALENDAR