BEGIN:VCALENDAR
VERSION:2.0
PRODID:-//Town of Dover, Racine County, Wisconsin - ECPv6.15.17.1//NONSGML v1.0//EN
CALSCALE:GREGORIAN
METHOD:PUBLISH
X-WR-CALNAME:Town of Dover, Racine County, Wisconsin
X-ORIGINAL-URL:https://townofdoverwi.com
X-WR-CALDESC:Events for Town of Dover, Racine County, Wisconsin
REFRESH-INTERVAL;VALUE=DURATION:PT1H
X-Robots-Tag:noindex
X-PUBLISHED-TTL:PT1H
BEGIN:VTIMEZONE
TZID:America/Chicago
BEGIN:DAYLIGHT
TZOFFSETFROM:-0600
TZOFFSETTO:-0500
TZNAME:CDT
DTSTART:20210314T080000
END:DAYLIGHT
BEGIN:STANDARD
TZOFFSETFROM:-0500
TZOFFSETTO:-0600
TZNAME:CST
DTSTART:20211107T070000
END:STANDARD
BEGIN:DAYLIGHT
TZOFFSETFROM:-0600
TZOFFSETTO:-0500
TZNAME:CDT
DTSTART:20220313T080000
END:DAYLIGHT
BEGIN:STANDARD
TZOFFSETFROM:-0500
TZOFFSETTO:-0600
TZNAME:CST
DTSTART:20221106T070000
END:STANDARD
BEGIN:DAYLIGHT
TZOFFSETFROM:-0600
TZOFFSETTO:-0500
TZNAME:CDT
DTSTART:20230312T080000
END:DAYLIGHT
BEGIN:STANDARD
TZOFFSETFROM:-0500
TZOFFSETTO:-0600
TZNAME:CST
DTSTART:20231105T070000
END:STANDARD
END:VTIMEZONE
BEGIN:VEVENT
DTSTART;TZID=America/Chicago:20220303T173000
DTEND;TZID=America/Chicago:20220303T193000
DTSTAMP:20260423T224642
CREATED:20211208T221348Z
LAST-MODIFIED:20211208T221348Z
UID:15588-1646328600-1646335800@townofdoverwi.com
SUMMARY:Municipal Court
DESCRIPTION:Please contact the Clerk of Courts – Donna at 262-497-8860 with any questions or concerns.
URL:https://townofdoverwi.com/event/municipal-court-22/
CATEGORIES:Municipal Court
END:VEVENT
BEGIN:VEVENT
DTSTART;TZID=America/Chicago:20220321T130000
DTEND;TZID=America/Chicago:20220321T163000
DTSTAMP:20260423T224642
CREATED:20220308T164831Z
LAST-MODIFIED:20220308T164831Z
UID:15779-1647867600-1647880200@townofdoverwi.com
SUMMARY:Town Hall Office Will Be Closed March 21\, 2022 from 1pm to 4:30pm
DESCRIPTION:The office is open from 8a to 12:59pm.   \nThanks for your understanding. \nPosted 3.8.2022
URL:https://townofdoverwi.com/event/town-hall-office-will-be-closed-march-21-2022-from-1pm-to-430pm/
CATEGORIES:Clerk's Hours
END:VEVENT
BEGIN:VEVENT
DTSTART;TZID=America/Chicago:20220322T080000
DTEND;TZID=America/Chicago:20220322T163000
DTSTAMP:20260423T224642
CREATED:20220308T155937Z
LAST-MODIFIED:20220308T185126Z
UID:15765-1647936000-1647966600@townofdoverwi.com
SUMMARY:March 22 > First Day for Absentee Voting for the April 5\, 2022 Election
DESCRIPTION:Voting an absentee ballot in person \nYou may also request and vote an absentee ballot in the clerk’s office during the days and hours specified for casting an absentee ballot in person: \nMarch 22 and March 24\, the hours to vote are 8a-4:30p  \nWednesday\, March 23 and Friday\, March 25 the hours to vote are 8a-12noon\n March 28\, 29\, 30\, 31\, the hours to vote are 8a-4:30p and\n Friday\, April 1\, 2022 the hours to vote are 8a-5pm\nCamille Gerou or Kim Springer Town of Dover Clerks 262-878-2200 \nThe first day to vote an absentee ballot in the clerk’s office is:\nTuesday\, March 22\, 2022 Beginning at 8am  \nThe last day to vote an absentee ballot in the clerk’s office:\nFriday\, April 1\, 2022 Ending at 5pm \nNo in-person absentee voting may occur on the day before the election. \nThe municipal clerk will deliver voted ballots returned on or before Election Day to the proper polling place or counting location before the polls close on April 5\, 2022.  Any ballots received after the polls close will not be counted.    \n	TYPE E NOTICE					                      CAMILLE GEROU T. DOVER CLERK
URL:https://townofdoverwi.com/event/15765/
CATEGORIES:Event
END:VEVENT
BEGIN:VEVENT
DTSTART;TZID=America/Chicago:20220323T080000
DTEND;TZID=America/Chicago:20220323T120000
DTSTAMP:20260423T224642
CREATED:20220308T160501Z
LAST-MODIFIED:20220308T190600Z
UID:15772-1648022400-1648036800@townofdoverwi.com
SUMMARY:March 23 Absentee Voting Hours
DESCRIPTION:Voting by absentee ballot \nAny qualified elector who is unable or unwilling to appear at the polling place on Election Day may request to vote an absentee ballot.  A qualified elector is any U.S. citizen\, who will be 18 years of age or older on Election Day\, who has resided in the ward or municipality where he or she wishes to vote for at least 28 consecutive days before the election.  The elector must also be registered in order to receive an absentee ballot.  Proof of identification must be provided before an absentee ballot may be issued.   \nYou must make a request for an absentee ballot in writing. \nContact your municipal clerk and request that an application for an absentee ballot be sent to you for the primary or election or both.  You may also submit a written request in the form of a letter.  Your written request must list your voting address within the municipality where you wish to vote\, the address where the absentee ballot should be sent\, if different\, and your signature.  You may make application for an absentee ballot by mail\, email or in person. \nMaking application to receive an absentee ballot by mail \nThe deadline for making application to receive an absentee ballot by mail is:\n5 pm on the fifth day before the election\, March 31\, 2022\nNote: Special absentee voting application provisions apply to electors who are indefinitely confined to home or a care facility\, in the military\, hospitalized\, or serving as a sequestered juror.  If this applies to you\, contact the municipal clerk regarding deadlines for requesting and submitting an absentee ballot. \nVoting an absentee ballot in person \nYou may also request and vote an absentee ballot in the clerk’s office during the days and hours specified for casting an absentee ballot in person: \nMarch 22 and March 24\, the hours to vote are 8a-4:30p\nWednesday\, March 23 and Friday\, March 25 the hours to vote are 8a-12noon\n March 28\, 29\, 30\, 31\, the hours to vote are 8a-4:30p and\n Friday\, April 1\, 2022 the hours to vote are 8a-5pm\nCamille Gerou or Kim Springer Town of Dover Clerks 262-878-2200 \nThe first day to vote an absentee ballot in the clerk’s office is:\nTuesday\, March 22\, 2022 Beginning at 8am  \nThe last day to vote an absentee ballot in the clerk’s office:\nFriday\, April 1\, 2022 Ending at 5pm \nNo in-person absentee voting may occur on the day before the election. \nThe municipal clerk will deliver voted ballots returned on or before Election Day to the proper polling place or counting location before the polls close on April 5\, 2022.  Any ballots received after the polls close will not be counted.    \n	TYPE E NOTICE					                      CAMILLE GEROU T. DOVER CLERK
URL:https://townofdoverwi.com/event/march-23-absentee-voting-hours/
CATEGORIES:Flood
END:VEVENT
BEGIN:VEVENT
DTSTART;TZID=America/Chicago:20220323T130000
DTEND;TZID=America/Chicago:20220323T163000
DTSTAMP:20260423T224642
CREATED:20220308T171116Z
LAST-MODIFIED:20220308T171116Z
UID:15781-1648040400-1648053000@townofdoverwi.com
SUMMARY:Town Hall Office Will Be Closed March 23\, 2022 from 1pm to 4:30pm
DESCRIPTION:The office will be open in the morning from 8am to 12:59pm. \nThanks for your understanding. \nPosted 3.8.2022
URL:https://townofdoverwi.com/event/town-hall-office-will-be-closed-march-23-2022-from-1pm-to-430pm/
CATEGORIES:Dairy Breakfast
END:VEVENT
BEGIN:VEVENT
DTSTART;TZID=America/Chicago:20220324T080000
DTEND;TZID=America/Chicago:20220324T163000
DTSTAMP:20260423T224642
CREATED:20220308T160142Z
LAST-MODIFIED:20220308T185035Z
UID:15768-1648108800-1648139400@townofdoverwi.com
SUMMARY:Absentee Voting Hours for March 24 for the April 5\, 2022 Election
DESCRIPTION:Voting an absentee ballot in person \nYou may also request and vote an absentee ballot in the clerk’s office during the days and hours specified for casting an absentee ballot in person: \nMarch 22 and March 24\, the hours to vote are 8a-4:30p \nWednesday\, March 23 and Friday\, March 25 the hours to vote are 8a-12noon\n March 28\, 29\, 30\, 31\, the hours to vote are 8a-4:30p and\n Friday\, April 1\, 2022 the hours to vote are 8a-5pm\nCamille Gerou or Kim Springer Town of Dover Clerks 262-878-2200 \nThe first day to vote an absentee ballot in the clerk’s office is:\nTuesday\, March 22\, 2022 Beginning at 8am  \nThe last day to vote an absentee ballot in the clerk’s office:\nFriday\, April 1\, 2022 Ending at 5pm \nNo in-person absentee voting may occur on the day before the election. \nThe municipal clerk will deliver voted ballots returned on or before Election Day to the proper polling place or counting location before the polls close on April 5\, 2022.  Any ballots received after the polls close will not be counted.    \n	TYPE E NOTICE					                      CAMILLE GEROU T. DOVER CLERK
URL:https://townofdoverwi.com/event/absentee-voting-hours-for-march-24-for-the-april-5-2022-election/
CATEGORIES:Clerk's Hours
END:VEVENT
BEGIN:VEVENT
DTSTART;TZID=America/Chicago:20220324T130000
DTEND;TZID=America/Chicago:20220324T130000
DTSTAMP:20260423T224642
CREATED:20220303T214050Z
LAST-MODIFIED:20220303T214050Z
UID:15728-1648126800-1648126800@townofdoverwi.com
SUMMARY:Election Workers at Boland Hall for Residents of WI Veterans Home
DESCRIPTION:Election Workers will be at Boland Hall on Thursday\, March 24\, 2022\, at 1pm. \nfor residents who reside at the Wisconsin Veterans Home\, 21425 E. Spring Street \nwho wish to vote for the Spring Election.
URL:https://townofdoverwi.com/event/election-workers-at-boland-hall-for-residents-of-wi-veterans-home/
CATEGORIES:Election
END:VEVENT
BEGIN:VEVENT
DTSTART;TZID=America/Chicago:20220325T080000
DTEND;TZID=America/Chicago:20220325T120000
DTSTAMP:20260423T224642
CREATED:20220308T163515Z
LAST-MODIFIED:20220308T184921Z
UID:15774-1648195200-1648209600@townofdoverwi.com
SUMMARY:Absentee Voting Hours on March 25 for the April 5\, 2022 Election
DESCRIPTION:Voting by absentee ballot \nAny qualified elector who is unable or unwilling to appear at the polling place on Election Day may request to vote an absentee ballot.  A qualified elector is any U.S. citizen\, who will be 18 years of age or older on Election Day\, who has resided in the ward or municipality where he or she wishes to vote for at least 28 consecutive days before the election.  The elector must also be registered in order to receive an absentee ballot.  Proof of identification must be provided before an absentee ballot may be issued.   \nYou must make a request for an absentee ballot in writing. \nContact your municipal clerk and request that an application for an absentee ballot be sent to you for the primary or election or both.  You may also submit a written request in the form of a letter.  Your written request must list your voting address within the municipality where you wish to vote\, the address where the absentee ballot should be sent\, if different\, and your signature.  You may make application for an absentee ballot by mail\, email or in person. \nMaking application to receive an absentee ballot by mail \nThe deadline for making application to receive an absentee ballot by mail is:\n5 pm on the fifth day before the election\, March 31\, 2022\nNote: Special absentee voting application provisions apply to electors who are indefinitely confined to home or a care facility\, in the military\, hospitalized\, or serving as a sequestered juror.  If this applies to you\, contact the municipal clerk regarding deadlines for requesting and submitting an absentee ballot. \nVoting an absentee ballot in person \nYou may also request and vote an absentee ballot in the clerk’s office during the days and hours specified for casting an absentee ballot in person: \nMarch 22 and March 24\, the hours to vote are 8a-4:30p\nWednesday\, March 23 and Friday\, March 25 the hours to vote are 8a-12noon\n March 28\, 29\, 30\, 31\, the hours to vote are 8a-4:30p and\n Friday\, April 1\, 2022 the hours to vote are 8a-5pm\nCamille Gerou or Kim Springer Town of Dover Clerks 262-878-2200 \nThe first day to vote an absentee ballot in the clerk’s office is:\nTuesday\, March 22\, 2022 Beginning at 8am  \nThe last day to vote an absentee ballot in the clerk’s office:\nFriday\, April 1\, 2022 Ending at 5pm \nNo in-person absentee voting may occur on the day before the election. \nThe municipal clerk will deliver voted ballots returned on or before Election Day to the proper polling place or counting location before the polls close on April 5\, 2022.  Any ballots received after the polls close will not be counted.    \n	TYPE E NOTICE					                      CAMILLE GEROU T. DOVER CLERK
URL:https://townofdoverwi.com/event/absentee-voting-hours-on-march-23-for-the-april-5-2022-election/
CATEGORIES:Dairy Breakfast,Clean Sweep
END:VEVENT
BEGIN:VEVENT
DTSTART;TZID=America/Chicago:20220328T080000
DTEND;TZID=America/Chicago:20220331T163000
DTSTAMP:20260423T224642
CREATED:20220303T220107Z
LAST-MODIFIED:20220308T191114Z
UID:15741-1648454400-1648744200@townofdoverwi.com
SUMMARY:Voting By Absentee Ballot
DESCRIPTION:Voting by absentee ballot \nAny qualified elector who is unable or unwilling to appear at the polling place on Election Day may request to vote an absentee ballot.  A qualified elector is any U.S. citizen\, who will be 18 years of age or older on Election Day\, who has resided in the ward or municipality where he or she wishes to vote for at least 28 consecutive days before the election.  The elector must also be registered in order to receive an absentee ballot.  Proof of identification must be provided before an absentee ballot may be issued.   \nYou must make a request for an absentee ballot in writing. \nContact your municipal clerk and request that an application for an absentee ballot be sent to you for the primary or election or both.  You may also submit a written request in the form of a letter.  Your written request must list your voting address within the municipality where you wish to vote\, the address where the absentee ballot should be sent\, if different\, and your signature.  You may make application for an absentee ballot by mail\, email or in person. \nMaking application to receive an absentee ballot by mail \nThe deadline for making application to receive an absentee ballot by mail is:\n5 pm on the fifth day before the election\, March 31\, 2022\nNote: Special absentee voting application provisions apply to electors who are indefinitely confined to home or a care facility\, in the military\, hospitalized\, or serving as a sequestered juror.  If this applies to you\, contact the municipal clerk regarding deadlines for requesting and submitting an absentee ballot. \nVoting an absentee ballot in person \nYou may also request and vote an absentee ballot in the clerk’s office during the days and hours specified for casting an absentee ballot in person: \nMarch 22 and 24\, the hours to vote are 8a-4:30p\nMarch 23 and 25\, the hours to vote are 8a-12noon\n March 28\, 29\, 30\, 31\, the hours to vote are 8a-4:30p and  Friday\, April 1\, 2022 the hours to vote are 8a-5pm\nCamille Gerou or Kim Springer Town of Dover Clerks 262-878-2200 \nThe first day to vote an absentee ballot in the clerk’s office is:\nTuesday\, March 22\, 2022 Beginning at 8am  \nThe last day to vote an absentee ballot in the clerk’s office:\nFriday\, April 1\, 2022 Ending at 5pm \nNo in-person absentee voting may occur on the day before the election. \nThe municipal clerk will deliver voted ballots returned on or before Election Day to the proper polling place or counting location before the polls close on April 5\, 2022.  Any ballots received after the polls close will not be counted.    \nTYPE E NOTICE					                      CAMILLE GEROU T. DOVER CLERK
URL:https://townofdoverwi.com/event/voting-by-absentee-ballot-3/
CATEGORIES:Event
END:VEVENT
BEGIN:VEVENT
DTSTART;TZID=America/Chicago:20220330T090000
DTEND;TZID=America/Chicago:20220330T100000
DTSTAMP:20260423T224642
CREATED:20220303T214317Z
LAST-MODIFIED:20220303T214317Z
UID:15730-1648630800-1648634400@townofdoverwi.com
SUMMARY:NOTICE OF PUBLIC TEST OF THE ELECTION EQUIPMENT
DESCRIPTION:NOTICE OF PUBLIC TEST \nNOTICE IS HEREBY GIVEN that the Public Test of the Election Automatic Tabulating Equipment will be conducted at the Dover Town Hall\, 4110 South Beaumont Avenue\, Kansasville\, on Wednesday\, March 30\, 2022 at 9:00 a.m.  This election equipment will be used at the SPRING ELECTION\, Tuesday\, April 5\, 2022.\nThis Public Test is open to the general public.
URL:https://townofdoverwi.com/event/notice-of-public-test-of-the-election-equipment/
CATEGORIES:Election
END:VEVENT
END:VCALENDAR