BEGIN:VCALENDAR
VERSION:2.0
PRODID:-//Town of Dover, Racine County, Wisconsin - ECPv6.15.17.1//NONSGML v1.0//EN
CALSCALE:GREGORIAN
METHOD:PUBLISH
X-ORIGINAL-URL:https://townofdoverwi.com
X-WR-CALDESC:Events for Town of Dover, Racine County, Wisconsin
REFRESH-INTERVAL;VALUE=DURATION:PT1H
X-Robots-Tag:noindex
X-PUBLISHED-TTL:PT1H
BEGIN:VTIMEZONE
TZID:America/Chicago
BEGIN:DAYLIGHT
TZOFFSETFROM:-0600
TZOFFSETTO:-0500
TZNAME:CDT
DTSTART:20200308T080000
END:DAYLIGHT
BEGIN:STANDARD
TZOFFSETFROM:-0500
TZOFFSETTO:-0600
TZNAME:CST
DTSTART:20201101T070000
END:STANDARD
BEGIN:DAYLIGHT
TZOFFSETFROM:-0600
TZOFFSETTO:-0500
TZNAME:CDT
DTSTART:20210314T080000
END:DAYLIGHT
BEGIN:STANDARD
TZOFFSETFROM:-0500
TZOFFSETTO:-0600
TZNAME:CST
DTSTART:20211107T070000
END:STANDARD
BEGIN:DAYLIGHT
TZOFFSETFROM:-0600
TZOFFSETTO:-0500
TZNAME:CDT
DTSTART:20220313T080000
END:DAYLIGHT
BEGIN:STANDARD
TZOFFSETFROM:-0500
TZOFFSETTO:-0600
TZNAME:CST
DTSTART:20221106T070000
END:STANDARD
END:VTIMEZONE
BEGIN:VEVENT
DTSTART;TZID=America/Chicago:20210818T120000
DTEND;TZID=America/Chicago:20210818T163000
DTSTAMP:20260424T115644
CREATED:20210816T184703Z
LAST-MODIFIED:20210816T184703Z
UID:15429-1629288000-1629304200@townofdoverwi.com
SUMMARY:Office Closed the Afternoon of Wednesday August 18\, 2021
DESCRIPTION:NOTICE \nthe Town of Dover OFFICE will be CLOSED\nWednesday\, August  18\, 2021 from 12noon to 4:30pm \nThe office will reopen at 8am Thursday\, August 19.\nSorry for the inconvenience\, the clerk must attend a medical appointment. \nNormal office hours are:\nMonday through Thursday 8a-4:30p & Friday’s from 8a-12noon. \n(Please note there is a drop box located outside of the Town Hall for your convenience) \nDated this 16rd day of August 2021\nCamille Gerou\,  Clerk/Treasurer
URL:https://townofdoverwi.com/event/office-closed-the-afternoon-of-wednesday-august-18-2021/
CATEGORIES:OFFICE CLOSED
END:VEVENT
BEGIN:VEVENT
DTSTART;TZID=America/Chicago:20210819T080000
DTEND;TZID=America/Chicago:20210819T130000
DTSTAMP:20260424T115644
CREATED:20210819T130933Z
LAST-MODIFIED:20210819T130933Z
UID:15441-1629360000-1629378000@townofdoverwi.com
SUMMARY:Clerks Office will be CLOSED Thursday\, August  19\, 2021 from 8a to 1pm
DESCRIPTION:NOTICE \nThe Town of Dover Clerks Office will be CLOSED\nThursday\, August  19\, 2021 from 8a to 1pm \nSorry for the inconvenience\,\nthe clerk has a “surprise” medical appointment\n&\nthe Deputy Clerk is on vacation at the fair with her family.   \nThe office should reopen at 1pm today till 4:30pm.   \nNormal office hours are:\nMonday through Thursday 8a-4:30p\n&\nFriday’s from 8a-12noon. \n(Please note there is a drop box located outside of the Town Hall for your convenience)
URL:https://townofdoverwi.com/event/clerks-office-will-be-closed-thursday-august-19-2021-from-8a-to-1pm/
CATEGORIES:OFFICE CLOSED
END:VEVENT
END:VCALENDAR