BEGIN:VCALENDAR
VERSION:2.0
PRODID:-//Town of Dover, Racine County, Wisconsin - ECPv6.15.17.1//NONSGML v1.0//EN
CALSCALE:GREGORIAN
METHOD:PUBLISH
X-ORIGINAL-URL:https://townofdoverwi.com
X-WR-CALDESC:Events for Town of Dover, Racine County, Wisconsin
REFRESH-INTERVAL;VALUE=DURATION:PT1H
X-Robots-Tag:noindex
X-PUBLISHED-TTL:PT1H
BEGIN:VTIMEZONE
TZID:America/Chicago
BEGIN:DAYLIGHT
TZOFFSETFROM:-0600
TZOFFSETTO:-0500
TZNAME:CDT
DTSTART:20200308T080000
END:DAYLIGHT
BEGIN:STANDARD
TZOFFSETFROM:-0500
TZOFFSETTO:-0600
TZNAME:CST
DTSTART:20201101T070000
END:STANDARD
BEGIN:DAYLIGHT
TZOFFSETFROM:-0600
TZOFFSETTO:-0500
TZNAME:CDT
DTSTART:20210314T080000
END:DAYLIGHT
BEGIN:STANDARD
TZOFFSETFROM:-0500
TZOFFSETTO:-0600
TZNAME:CST
DTSTART:20211107T070000
END:STANDARD
BEGIN:DAYLIGHT
TZOFFSETFROM:-0600
TZOFFSETTO:-0500
TZNAME:CDT
DTSTART:20220313T080000
END:DAYLIGHT
BEGIN:STANDARD
TZOFFSETFROM:-0500
TZOFFSETTO:-0600
TZNAME:CST
DTSTART:20221106T070000
END:STANDARD
END:VTIMEZONE
BEGIN:VEVENT
DTSTART;TZID=America/Chicago:20210705T080000
DTEND;TZID=America/Chicago:20210705T170000
DTSTAMP:20260424T134735
CREATED:20210702T154508Z
LAST-MODIFIED:20210702T154508Z
UID:15351-1625472000-1625504400@townofdoverwi.com
SUMMARY:July 5th OFFICE CLOSED
DESCRIPTION:Due to the 4th of July Holiday the Town Hall Office will be closed Monday\, July 5\, 2021.  We will re-open at 8am Tuesday\, July 6th.
URL:https://townofdoverwi.com/event/july-5th-office-closed/
CATEGORIES:OFFICE CLOSED
END:VEVENT
BEGIN:VEVENT
DTSTART;TZID=America/Chicago:20210711T070000
DTEND;TZID=America/Chicago:20210711T110000
DTSTAMP:20260424T134735
CREATED:20210422T190434Z
LAST-MODIFIED:20210422T190434Z
UID:15284-1625986800-1626001200@townofdoverwi.com
SUMMARY:Kansasville Fire & Rescue Pancake Breakfast & Safety Day
DESCRIPTION:Save the Date!   7a-12noon
URL:https://townofdoverwi.com/event/kansasville-fire-rescue-pancake-breakfast-safety-day/
CATEGORIES:Pancake Breakfast & Safety Day
END:VEVENT
END:VCALENDAR