BEGIN:VCALENDAR
VERSION:2.0
PRODID:-//Town of Dover, Racine County, Wisconsin - ECPv6.15.17.1//NONSGML v1.0//EN
CALSCALE:GREGORIAN
METHOD:PUBLISH
X-WR-CALNAME:Town of Dover, Racine County, Wisconsin
X-ORIGINAL-URL:https://townofdoverwi.com
X-WR-CALDESC:Events for Town of Dover, Racine County, Wisconsin
REFRESH-INTERVAL;VALUE=DURATION:PT1H
X-Robots-Tag:noindex
X-PUBLISHED-TTL:PT1H
BEGIN:VTIMEZONE
TZID:America/Chicago
BEGIN:DAYLIGHT
TZOFFSETFROM:-0600
TZOFFSETTO:-0500
TZNAME:CDT
DTSTART:20170312T080000
END:DAYLIGHT
BEGIN:STANDARD
TZOFFSETFROM:-0500
TZOFFSETTO:-0600
TZNAME:CST
DTSTART:20171105T070000
END:STANDARD
BEGIN:DAYLIGHT
TZOFFSETFROM:-0600
TZOFFSETTO:-0500
TZNAME:CDT
DTSTART:20180311T080000
END:DAYLIGHT
BEGIN:STANDARD
TZOFFSETFROM:-0500
TZOFFSETTO:-0600
TZNAME:CST
DTSTART:20181104T070000
END:STANDARD
BEGIN:DAYLIGHT
TZOFFSETFROM:-0600
TZOFFSETTO:-0500
TZNAME:CDT
DTSTART:20190310T080000
END:DAYLIGHT
BEGIN:STANDARD
TZOFFSETFROM:-0500
TZOFFSETTO:-0600
TZNAME:CST
DTSTART:20191103T070000
END:STANDARD
END:VTIMEZONE
BEGIN:VEVENT
DTSTART;TZID=America/Chicago:20180624T100000
DTEND;TZID=America/Chicago:20180624T100000
DTSTAMP:20260424T094026
CREATED:20180624T150000Z
LAST-MODIFIED:20180624T150000Z
UID:13352-1529834400-1529834400@townofdoverwi.com
SUMMARY:Bike Rodeo---   CANCELLED DUE TO NO RSVP's
DESCRIPTION:PRESS RELEASE\nDover Water Patrol to Host a Bike Rodeo\nLocation: Dover Town Hall – 4110 South Beaumont Avenue Kansasville\, WI 53139\nDate: Sunday June 24\nTime: 10AM-2PM\nOn Sunday\, June 24\, 2018\, the Dover Water Patrol will be hosting a bike rodeo at the Town of Dover Town Hall\n(4110 South Beaumont Avenue Kansasville\, WI 53139). Officers Joshua Martinson and Justin Brogni will be\ninstructing bike safety and doing safety checks of bikes and helmets. Officers Martinson and Brogni were bike\npatrol officers for over 10 years each\, combining for over 20 years of bike patrol experience. Both have taught\nbike safety rodeos in the Milwaukee Public School system in the past. Officers Martinson and Brogni are both\nLaw Enforcement Bike Association (LEBA) certified.\nOfficer Martinson has also worked as a bike mechanic at Wheel and Sprocket in Hales Corners for the past 8\nyears. He will be using his bike stand and tools to do safety checks of bikes (brakes\, shifting\, tire pressure). No\nparts for bikes will be available but Officer Martinson will be advising participants if there are major issues and\nlet participants know what work\, if any\, needs to be done to make the bike safe.\nOfficer Brogni will be doing proper fitting of helmets and will go over the rules of safe bike riding. He will also\nreview the rules of the road\, including proper hand signals\, associated with safe bike riding.\nIf time and weather allows\, there will also be an obstacle course to show safe riding.\nThe target ages for this event are grades 1-8\, however high school students and adults may also bring their bikes\nby for a safety inspection. Adults and children should bring their own bikes and helmets as none will be provided\nor available to use.\nThis event will run rain or shine. \nPlease RSVP with the Dover Town Office by June 20\, 2018 at 262-878-2200. \nChristopher Utecht\nChief\nTown of Dover Water Patrol\n262-758-0450
URL:https://townofdoverwi.com/event/bike-rodeo-cancelled-due-to-no-rsvps/
CATEGORIES:Water Patrol
END:VEVENT
END:VCALENDAR