BEGIN:VCALENDAR
VERSION:2.0
PRODID:-//Town of Dover, Racine County, Wisconsin - ECPv6.15.17.1//NONSGML v1.0//EN
CALSCALE:GREGORIAN
METHOD:PUBLISH
X-ORIGINAL-URL:https://townofdoverwi.com
X-WR-CALDESC:Events for Town of Dover, Racine County, Wisconsin
REFRESH-INTERVAL;VALUE=DURATION:PT1H
X-Robots-Tag:noindex
X-PUBLISHED-TTL:PT1H
BEGIN:VTIMEZONE
TZID:America/Chicago
BEGIN:DAYLIGHT
TZOFFSETFROM:-0600
TZOFFSETTO:-0500
TZNAME:CDT
DTSTART:20180311T080000
END:DAYLIGHT
BEGIN:STANDARD
TZOFFSETFROM:-0500
TZOFFSETTO:-0600
TZNAME:CST
DTSTART:20181104T070000
END:STANDARD
BEGIN:DAYLIGHT
TZOFFSETFROM:-0600
TZOFFSETTO:-0500
TZNAME:CDT
DTSTART:20190310T080000
END:DAYLIGHT
BEGIN:STANDARD
TZOFFSETFROM:-0500
TZOFFSETTO:-0600
TZNAME:CST
DTSTART:20191103T070000
END:STANDARD
BEGIN:DAYLIGHT
TZOFFSETFROM:-0600
TZOFFSETTO:-0500
TZNAME:CDT
DTSTART:20200308T080000
END:DAYLIGHT
BEGIN:STANDARD
TZOFFSETFROM:-0500
TZOFFSETTO:-0600
TZNAME:CST
DTSTART:20201101T070000
END:STANDARD
END:VTIMEZONE
BEGIN:VEVENT
DTSTART;TZID=America/Chicago:20191206T180000
DTEND;TZID=America/Chicago:20191206T193000
DTSTAMP:20260421T072821
CREATED:20191126T173450Z
LAST-MODIFIED:20191126T204634Z
UID:14489-1575655200-1575660600@townofdoverwi.com
SUMMARY:Tree Lighting Ceremony
DESCRIPTION:The Kansasville Elementary PTO will hold the annual Tree Lighting Ceremony at the Kansasville School Common Room Friday\, December 6\, 2019 at 6pm. \nKansasville School’s Address is:  4101 S Beaumont Avenue.  The Town Hall tree will still be lite but the refreshments will be in the school.   \nThe public is certainly welcome to attend!
URL:https://townofdoverwi.com/event/tree-lighting-ceremony-3/
CATEGORIES:Tree Lighting
END:VEVENT
END:VCALENDAR