BEGIN:VCALENDAR
VERSION:2.0
PRODID:-//Town of Dover, Racine County, Wisconsin - ECPv6.15.17.1//NONSGML v1.0//EN
CALSCALE:GREGORIAN
METHOD:PUBLISH
X-ORIGINAL-URL:https://townofdoverwi.com
X-WR-CALDESC:Events for Town of Dover, Racine County, Wisconsin
REFRESH-INTERVAL;VALUE=DURATION:PT1H
X-Robots-Tag:noindex
X-PUBLISHED-TTL:PT1H
BEGIN:VTIMEZONE
TZID:America/Chicago
BEGIN:DAYLIGHT
TZOFFSETFROM:-0600
TZOFFSETTO:-0500
TZNAME:CDT
DTSTART:20160313T080000
END:DAYLIGHT
BEGIN:STANDARD
TZOFFSETFROM:-0500
TZOFFSETTO:-0600
TZNAME:CST
DTSTART:20161106T070000
END:STANDARD
BEGIN:DAYLIGHT
TZOFFSETFROM:-0600
TZOFFSETTO:-0500
TZNAME:CDT
DTSTART:20170312T080000
END:DAYLIGHT
BEGIN:STANDARD
TZOFFSETFROM:-0500
TZOFFSETTO:-0600
TZNAME:CST
DTSTART:20171105T070000
END:STANDARD
BEGIN:DAYLIGHT
TZOFFSETFROM:-0600
TZOFFSETTO:-0500
TZNAME:CDT
DTSTART:20180311T080000
END:DAYLIGHT
BEGIN:STANDARD
TZOFFSETFROM:-0500
TZOFFSETTO:-0600
TZNAME:CST
DTSTART:20181104T070000
END:STANDARD
END:VTIMEZONE
BEGIN:VEVENT
DTSTART;TZID=America/Chicago:20171208T180000
DTEND;TZID=America/Chicago:20171208T200000
DTSTAMP:20260423T040845
CREATED:20171209T000000Z
LAST-MODIFIED:20171209T000000Z
UID:13392-1512756000-1512763200@townofdoverwi.com
SUMMARY:Tree Lighting Ceremony
DESCRIPTION:The Town of Dover Tree Lighting Ceremony will take place at the Town Hall 4110 South Beaumont Avenue at 6pm on Friday\, December 8\, 2017. \nSongs will be sung by the Kansasville Grade School Students… \nCookies will be served! \nCome one\, come all. \n 
URL:https://townofdoverwi.com/event/tree-lighting-ceremony/
CATEGORIES:Tree Lighting
END:VEVENT
END:VCALENDAR