BEGIN:VCALENDAR
VERSION:2.0
PRODID:-//Town of Dover, Racine County, Wisconsin - ECPv6.15.17.1//NONSGML v1.0//EN
CALSCALE:GREGORIAN
METHOD:PUBLISH
X-WR-CALNAME:Town of Dover, Racine County, Wisconsin
X-ORIGINAL-URL:https://townofdoverwi.com
X-WR-CALDESC:Events for Town of Dover, Racine County, Wisconsin
REFRESH-INTERVAL;VALUE=DURATION:PT1H
X-Robots-Tag:noindex
X-PUBLISHED-TTL:PT1H
BEGIN:VTIMEZONE
TZID:America/Chicago
BEGIN:DAYLIGHT
TZOFFSETFROM:-0600
TZOFFSETTO:-0500
TZNAME:CDT
DTSTART:20210314T080000
END:DAYLIGHT
BEGIN:STANDARD
TZOFFSETFROM:-0500
TZOFFSETTO:-0600
TZNAME:CST
DTSTART:20211107T070000
END:STANDARD
BEGIN:DAYLIGHT
TZOFFSETFROM:-0600
TZOFFSETTO:-0500
TZNAME:CDT
DTSTART:20220313T080000
END:DAYLIGHT
BEGIN:STANDARD
TZOFFSETFROM:-0500
TZOFFSETTO:-0600
TZNAME:CST
DTSTART:20221106T070000
END:STANDARD
BEGIN:DAYLIGHT
TZOFFSETFROM:-0600
TZOFFSETTO:-0500
TZNAME:CDT
DTSTART:20230312T080000
END:DAYLIGHT
BEGIN:STANDARD
TZOFFSETFROM:-0500
TZOFFSETTO:-0600
TZNAME:CST
DTSTART:20231105T070000
END:STANDARD
END:VTIMEZONE
BEGIN:VEVENT
DTSTART;TZID=America/Chicago:20221108T070000
DTEND;TZID=America/Chicago:20221108T200000
DTSTAMP:20260423T072807
CREATED:20221004T205515Z
LAST-MODIFIED:20221004T205515Z
UID:16095-1667890800-1667937600@townofdoverwi.com
SUMMARY:LOCATION AND HOURS OF THE DOVER POLLING PLACE
DESCRIPTION:LOCATION AND HOURS OF THE DOVER POLLING PLACE \n  \nThe  Partisan Office Election will be held on \nTuesday\, November 8\, 2022\, \nin the Town of Dover\, the following polling place will be used for all Dover wards: \nThe Dover Town Hall Located At:  4110 South Beaumont Avenue\, Kansasville\, WI 53139 \nTHE POLLING PLACE WILL OPEN AT 7:00 A.M. AND WILL CLOSE AT 8:00 P.M. \nIf you have any questions concerning your polling place\, contact the municipal clerks: \n  \nKim Springer or Camille Gerou \n4110 South Beaumont Avenue  \nKansasville\, WI  53139 \n262-878-2200 \nMonday thru Thursday 8a-4:30p\, Fridays 8a-12noon \n  \nAll polling places are accessible to elderly and disabled voters. \n______________________________________________________ \n  \nNotice of Meeting of the Local and Municipal Board of Canvassers  \nAt the close of voting on Election Day\, pursuant to the provisions of Wis. Stat. § 19.84\, the Election Inspectors will convene as a joint meeting of the Local Board of Canvassers and the Municipal Board of Canvassers for the purpose of conducting the local and municipal canvasses pursuant to Wis. Stat. §§7.51 and 7.53(1). This meeting will be open to the public pursuant to Wis. Stat. §§ 19.81-89. \nType D Notice
URL:https://townofdoverwi.com/event/location-and-hours-of-the-dover-polling-place-4/
CATEGORIES:Election
END:VEVENT
END:VCALENDAR