BEGIN:VCALENDAR
VERSION:2.0
PRODID:-//Town of Dover, Racine County, Wisconsin - ECPv6.15.17.1//NONSGML v1.0//EN
CALSCALE:GREGORIAN
METHOD:PUBLISH
X-WR-CALNAME:Town of Dover, Racine County, Wisconsin
X-ORIGINAL-URL:https://townofdoverwi.com
X-WR-CALDESC:Events for Town of Dover, Racine County, Wisconsin
REFRESH-INTERVAL;VALUE=DURATION:PT1H
X-Robots-Tag:noindex
X-PUBLISHED-TTL:PT1H
BEGIN:VTIMEZONE
TZID:America/Chicago
BEGIN:DAYLIGHT
TZOFFSETFROM:-0600
TZOFFSETTO:-0500
TZNAME:CDT
DTSTART:20210314T080000
END:DAYLIGHT
BEGIN:STANDARD
TZOFFSETFROM:-0500
TZOFFSETTO:-0600
TZNAME:CST
DTSTART:20211107T070000
END:STANDARD
BEGIN:DAYLIGHT
TZOFFSETFROM:-0600
TZOFFSETTO:-0500
TZNAME:CDT
DTSTART:20220313T080000
END:DAYLIGHT
BEGIN:STANDARD
TZOFFSETFROM:-0500
TZOFFSETTO:-0600
TZNAME:CST
DTSTART:20221106T070000
END:STANDARD
BEGIN:DAYLIGHT
TZOFFSETFROM:-0600
TZOFFSETTO:-0500
TZNAME:CDT
DTSTART:20230312T080000
END:DAYLIGHT
BEGIN:STANDARD
TZOFFSETFROM:-0500
TZOFFSETTO:-0600
TZNAME:CST
DTSTART:20231105T070000
END:STANDARD
END:VTIMEZONE
BEGIN:VEVENT
DTSTART;TZID=America/Chicago:20220401T080000
DTEND;TZID=America/Chicago:20220401T170000
DTSTAMP:20260423T201731
CREATED:20220308T155643Z
LAST-MODIFIED:20220308T185237Z
UID:15763-1648800000-1648832400@townofdoverwi.com
SUMMARY:Last Day to Absentee Vote for the April 5\, 2022 Election
DESCRIPTION:Voting an absentee ballot in person \nYou may also request and vote an absentee ballot in the clerk’s office during the days and hours specified for casting an absentee ballot in person: \nMarch 22 and March 24\, the hours to vote are 8a-4:30p\nWednesday\, March 23 and Friday\, March 25 the hours to vote are 8a-12noon\n March 28\, 29\, 30\, 31\, the hours to vote are 8a-4:30p and\n Friday\, April 1\, 2022 the hours to vote are 8a-5pm \nCamille Gerou or Kim Springer Town of Dover Clerks 262-878-2200 \nThe first day to vote an absentee ballot in the clerk’s office is:\nTuesday\, March 22\, 2022 Beginning at 8am  \nThe last day to vote an absentee ballot in the clerk’s office:\nFriday\, April 1\, 2022 Ending at 5pm \nNo in-person absentee voting may occur on the day before the election. \nThe municipal clerk will deliver voted ballots returned on or before Election Day to the proper polling place or counting location before the polls close on April 5\, 2022.  Any ballots received after the polls close will not be counted.    \n	TYPE E NOTICE					                      CAMILLE GEROU T. DOVER CLERK
URL:https://townofdoverwi.com/event/last-day-to-absentee-vote-for-the-april-5-2022-election/
CATEGORIES:Election
END:VEVENT
BEGIN:VEVENT
DTSTART;TZID=America/Chicago:20220405T070000
DTEND;TZID=America/Chicago:20220405T200000
DTSTAMP:20260423T201731
CREATED:20220303T214537Z
LAST-MODIFIED:20220303T214537Z
UID:15732-1649142000-1649188800@townofdoverwi.com
SUMMARY:LOCATION AND HOURS OF THE DOVER POLLING PLACE
DESCRIPTION:LOCATION AND HOURS OF THE DOVER POLLING PLACE \nThe Spring Election will be held on Tuesday\, April 5\, 2022\, in the Town of Dover\, the following polling place will be used for all Dover wards: \nThe Dover Town Hall Located At:  4110 South Beaumont Avenue\, Kansasville\, WI 53139 \n  THE POLLING PLACE WILL OPEN AT 7:00 A.M. AND WILL CLOSE AT 8:00 P.M. \nIf you have any questions concerning your polling place\, contact the municipal clerks: \nKim Springer or Camille Gerou\n4110 South Beaumont Avenue\nKansasville\, WI  53139\n262-878-2200\nMonday thru Thursday 8a-4:30p\, Fridays 8a-12noon \nAll polling places are accessible to elderly and disabled voters.\n______________________________________________________ \nNotice of Meeting of the Local and Municipal Board of Canvassers\nAt the close of voting on Election Day\, pursuant to the provisions of Wis. Stat. § 19.84\, the Election Inspectors will convene as a joint meeting of the Local Board of Canvassers and the Municipal Board of Canvassers for the purpose of conducting the local and municipal canvasses pursuant to Wis. Stat. §§7.51 and 7.53(1). This meeting will be open to the public pursuant to Wis. Stat. §§ 19.81-89.  \nType D Notice
URL:https://townofdoverwi.com/event/location-and-hours-of-the-dover-polling-place-3/
CATEGORIES:Election
END:VEVENT
END:VCALENDAR