BEGIN:VCALENDAR
VERSION:2.0
PRODID:-//Town of Dover, Racine County, Wisconsin - ECPv6.15.17.1//NONSGML v1.0//EN
CALSCALE:GREGORIAN
METHOD:PUBLISH
X-ORIGINAL-URL:https://townofdoverwi.com
X-WR-CALDESC:Events for Town of Dover, Racine County, Wisconsin
REFRESH-INTERVAL;VALUE=DURATION:PT1H
X-Robots-Tag:noindex
X-PUBLISHED-TTL:PT1H
BEGIN:VTIMEZONE
TZID:America/Chicago
BEGIN:DAYLIGHT
TZOFFSETFROM:-0600
TZOFFSETTO:-0500
TZNAME:CDT
DTSTART:20190310T080000
END:DAYLIGHT
BEGIN:STANDARD
TZOFFSETFROM:-0500
TZOFFSETTO:-0600
TZNAME:CST
DTSTART:20191103T070000
END:STANDARD
BEGIN:DAYLIGHT
TZOFFSETFROM:-0600
TZOFFSETTO:-0500
TZNAME:CDT
DTSTART:20200308T080000
END:DAYLIGHT
BEGIN:STANDARD
TZOFFSETFROM:-0500
TZOFFSETTO:-0600
TZNAME:CST
DTSTART:20201101T070000
END:STANDARD
BEGIN:DAYLIGHT
TZOFFSETFROM:-0600
TZOFFSETTO:-0500
TZNAME:CDT
DTSTART:20210314T080000
END:DAYLIGHT
BEGIN:STANDARD
TZOFFSETFROM:-0500
TZOFFSETTO:-0600
TZNAME:CST
DTSTART:20211107T070000
END:STANDARD
END:VTIMEZONE
BEGIN:VEVENT
DTSTART;TZID=America/Chicago:20200212T081500
DTEND;TZID=America/Chicago:20200212T090000
DTSTAMP:20260425T184113
CREATED:20200128T183240Z
LAST-MODIFIED:20200128T183240Z
UID:14556-1581495300-1581498000@townofdoverwi.com
SUMMARY:NOTICE OF VOTING EQUIPMENT PUBLIC TEST
DESCRIPTION:NOTICE OF PUBLIC TEST \nNOTICE IS HEREBY GIVEN that the Public Test of the Election Automatic Tabulating Equipment will be conducted at the Dover Town Hall\, 4110 South Beaumont Avenue\, Kansasville\, on Wednesday\, February 12\, 2020 at  8:15 a.m.  This election equipment will be used at the SPRING PRIMARY ELECTION\, Tuesday\, February 18\, 2020.\nThis Public Test is open to the general public. \nIf you are disabled and have accessibility needs or need information interpreted for you\, please call the Town Office at (262)878-2200 at least 24 hours prior to the meeting. \nDated this 28th Day of January 2020\nCamille Gerou\nClerk/Treasurer
URL:https://townofdoverwi.com/event/notice-of-voting-equipment-public-test/
CATEGORIES:Election
END:VEVENT
BEGIN:VEVENT
DTSTART;TZID=America/Chicago:20200218T070000
DTEND;TZID=America/Chicago:20200218T200000
DTSTAMP:20260425T184113
CREATED:20200128T181919Z
LAST-MODIFIED:20200128T181919Z
UID:14552-1582009200-1582056000@townofdoverwi.com
SUMMARY:February 18\, 2020 Dover Polling Place
DESCRIPTION:LOCATION AND HOURS OF THE DOVER POLLING PLACE \nThe Spring Primary Election will be held on Tuesday\, February 18\, 2020\, in the Town of Dover\, the following polling place will be used for all Dover wards: \nThe Dover Town Hall Located At:  4110 South Beaumont Avenue\, Kansasville\, WI 53139 \nTHE POLLING PLACE WILL OPEN AT 7:00 A.M. AND WILL CLOSE AT 8:00 P.M. \nIf you have any questions concerning your polling place\, contact the municipal clerks: \nKim Springer or Camille Gerou\n4110 South Beaumont Avenue\nKansasville\, WI  53139\n262-878-2200\nMonday thru Thursday 8a-4:30p\, Fridays 8a-12noon \nAll polling places are accessible to elderly and disabled voters.\n______________________________________________________ \nNotice of Meeting of the Local and Municipal Board of Canvassers\nAt the close of voting on Election Day\, pursuant to the provisions of Wis. Stat. § 19.84\, the Election Inspectors will convene as a joint meeting of the Local Board of Canvassers and the Municipal Board of Canvassers for the purpose of conducting the local and municipal canvasses pursuant to Wis. Stat. §§7.51 and 7.53(1). This meeting will be open to the public pursuant to Wis. Stat. §§ 19.81-89.  \nType D Notice
URL:https://townofdoverwi.com/event/february-18-2020-dover-polling-place/
CATEGORIES:Election
END:VEVENT
END:VCALENDAR