BEGIN:VCALENDAR
VERSION:2.0
PRODID:-//Town of Dover, Racine County, Wisconsin - ECPv6.15.17.1//NONSGML v1.0//EN
CALSCALE:GREGORIAN
METHOD:PUBLISH
X-WR-CALNAME:Town of Dover, Racine County, Wisconsin
X-ORIGINAL-URL:https://townofdoverwi.com
X-WR-CALDESC:Events for Town of Dover, Racine County, Wisconsin
REFRESH-INTERVAL;VALUE=DURATION:PT1H
X-Robots-Tag:noindex
X-PUBLISHED-TTL:PT1H
BEGIN:VTIMEZONE
TZID:America/Chicago
BEGIN:DAYLIGHT
TZOFFSETFROM:-0600
TZOFFSETTO:-0500
TZNAME:CDT
DTSTART:20220313T080000
END:DAYLIGHT
BEGIN:STANDARD
TZOFFSETFROM:-0500
TZOFFSETTO:-0600
TZNAME:CST
DTSTART:20221106T070000
END:STANDARD
BEGIN:DAYLIGHT
TZOFFSETFROM:-0600
TZOFFSETTO:-0500
TZNAME:CDT
DTSTART:20230312T080000
END:DAYLIGHT
BEGIN:STANDARD
TZOFFSETFROM:-0500
TZOFFSETTO:-0600
TZNAME:CST
DTSTART:20231105T070000
END:STANDARD
BEGIN:DAYLIGHT
TZOFFSETFROM:-0600
TZOFFSETTO:-0500
TZNAME:CDT
DTSTART:20240310T080000
END:DAYLIGHT
BEGIN:STANDARD
TZOFFSETFROM:-0500
TZOFFSETTO:-0600
TZNAME:CST
DTSTART:20241103T070000
END:STANDARD
END:VTIMEZONE
BEGIN:VEVENT
DTSTART;TZID=America/Chicago:20230819T080000
DTEND;TZID=America/Chicago:20230819T120000
DTSTAMP:20260424T023128
CREATED:20230725T184854Z
LAST-MODIFIED:20230725T184854Z
UID:16507-1692432000-1692446400@townofdoverwi.com
SUMMARY:CLEAN SWEEP 2023
DESCRIPTION:CLEAN SWEEP 2023\n\n\nSix area communities are teaming up to provide their residents a venue to dispose of hazardous waste\, appliances and electronics. With the help of Wisconsin Clean Sweep Grants\, the City of Burlington\, Town of Burlington\, Village of Union Grove\, Town of Dover\, Town of Waterford and the Village of Waterford have collaborated to hold this event on Saturday\, August 19\, 2023 from 8 a.m. to 12 p.m. \nEnter at the City of Burlington Wastewater Treatment Facility\, 2100 S Pine Street\, Burlington. \nMATERIALS MUST BE LOADED IN THE VEHICLE TRUNK OR TRUCK BED\nStaff and volunteers cannot remove items from the front or back seats of the vehicle. \nIf you are a City or Town of Burlington\, Village of Union Grove\, Town of Dover\, Village of Rochester\, Town of Waterford or Village of Waterford resident\, you can drop your materials off for FREE. There is a $35 fee to ASDA for each television/monitors. Payment is required at the time of disposal as either cash or check. You must provide proof of residency with a valid driver’s license.
URL:https://townofdoverwi.com/event/clean-sweep-2023/
CATEGORIES:Clean Sweep
END:VEVENT
END:VCALENDAR